BEGIN:VCALENDAR
VERSION:2.0
PRODID:-//The Carmelite Nuns of Baltimore - ECPv6.15.20//NONSGML v1.0//EN
CALSCALE:GREGORIAN
METHOD:PUBLISH
X-ORIGINAL-URL:https://www.baltimorecarmel.org
X-WR-CALDESC:Events for The Carmelite Nuns of Baltimore
REFRESH-INTERVAL;VALUE=DURATION:PT1H
X-Robots-Tag:noindex
X-PUBLISHED-TTL:PT1H
BEGIN:VTIMEZONE
TZID:America/New_York
BEGIN:DAYLIGHT
TZOFFSETFROM:-0500
TZOFFSETTO:-0400
TZNAME:EDT
DTSTART:20240310T070000
END:DAYLIGHT
BEGIN:STANDARD
TZOFFSETFROM:-0400
TZOFFSETTO:-0500
TZNAME:EST
DTSTART:20241103T060000
END:STANDARD
BEGIN:DAYLIGHT
TZOFFSETFROM:-0500
TZOFFSETTO:-0400
TZNAME:EDT
DTSTART:20250309T070000
END:DAYLIGHT
BEGIN:STANDARD
TZOFFSETFROM:-0400
TZOFFSETTO:-0500
TZNAME:EST
DTSTART:20251102T060000
END:STANDARD
BEGIN:DAYLIGHT
TZOFFSETFROM:-0500
TZOFFSETTO:-0400
TZNAME:EDT
DTSTART:20260308T070000
END:DAYLIGHT
BEGIN:STANDARD
TZOFFSETFROM:-0400
TZOFFSETTO:-0500
TZNAME:EST
DTSTART:20261101T060000
END:STANDARD
END:VTIMEZONE
BEGIN:VEVENT
DTSTART;TZID=America/New_York:20250530T073000
DTEND;TZID=America/New_York:20250530T080000
DTSTAMP:20260423T072230
CREATED:20250522T185614Z
LAST-MODIFIED:20250522T185614Z
UID:10016107-1748590200-1748592000@www.baltimorecarmel.org
SUMMARY:Lauds
DESCRIPTION:
URL:https://www.baltimorecarmel.org/event/lauds-178/
CATEGORIES:Main Calendar
END:VEVENT
BEGIN:VEVENT
DTSTART;TZID=America/New_York:20250530T080000
DTEND;TZID=America/New_York:20250530T090000
DTSTAMP:20260423T072230
CREATED:20250516T101812Z
LAST-MODIFIED:20250516T101812Z
UID:10016095-1748592000-1748595600@www.baltimorecarmel.org
SUMMARY:Mass (Gene Geinzer\, SJ)
DESCRIPTION:
URL:https://www.baltimorecarmel.org/event/mass-gene-geinzer-sj-38/
CATEGORIES:Main Calendar
END:VEVENT
END:VCALENDAR