BEGIN:VCALENDAR
VERSION:2.0
PRODID:-//The Carmelite Nuns of Baltimore - ECPv6.15.20//NONSGML v1.0//EN
CALSCALE:GREGORIAN
METHOD:PUBLISH
X-ORIGINAL-URL:https://www.baltimorecarmel.org
X-WR-CALDESC:Events for The Carmelite Nuns of Baltimore
REFRESH-INTERVAL;VALUE=DURATION:PT1H
X-Robots-Tag:noindex
X-PUBLISHED-TTL:PT1H
BEGIN:VTIMEZONE
TZID:America/New_York
BEGIN:DAYLIGHT
TZOFFSETFROM:-0500
TZOFFSETTO:-0400
TZNAME:EDT
DTSTART:20240310T070000
END:DAYLIGHT
BEGIN:STANDARD
TZOFFSETFROM:-0400
TZOFFSETTO:-0500
TZNAME:EST
DTSTART:20241103T060000
END:STANDARD
BEGIN:DAYLIGHT
TZOFFSETFROM:-0500
TZOFFSETTO:-0400
TZNAME:EDT
DTSTART:20250309T070000
END:DAYLIGHT
BEGIN:STANDARD
TZOFFSETFROM:-0400
TZOFFSETTO:-0500
TZNAME:EST
DTSTART:20251102T060000
END:STANDARD
BEGIN:DAYLIGHT
TZOFFSETFROM:-0500
TZOFFSETTO:-0400
TZNAME:EDT
DTSTART:20260308T070000
END:DAYLIGHT
BEGIN:STANDARD
TZOFFSETFROM:-0400
TZOFFSETTO:-0500
TZNAME:EST
DTSTART:20261101T060000
END:STANDARD
END:VTIMEZONE
BEGIN:VEVENT
DTSTART;TZID=America/New_York:20251013T080000
DTEND;TZID=America/New_York:20251013T090000
DTSTAMP:20260422T073624
CREATED:20250926T095734Z
LAST-MODIFIED:20250926T095734Z
UID:10016420-1760342400-1760346000@www.baltimorecarmel.org
SUMMARY:Mass (Bob Leavitt\, PSS)
DESCRIPTION:
URL:https://www.baltimorecarmel.org/event/mass-bob-leavitt-pss-20/
CATEGORIES:Main Calendar
END:VEVENT
BEGIN:VEVENT
DTSTART;TZID=America/New_York:20251013T160000
DTEND;TZID=America/New_York:20251013T163000
DTSTAMP:20260422T073624
CREATED:20250926T100956Z
LAST-MODIFIED:20250926T100956Z
UID:10016436-1760371200-1760373000@www.baltimorecarmel.org
SUMMARY:Vespers
DESCRIPTION:
URL:https://www.baltimorecarmel.org/event/vespers-128/2025-10-13/
CATEGORIES:Main Calendar
END:VEVENT
BEGIN:VEVENT
DTSTART;TZID=America/New_York:20251013T180000
DTEND;TZID=America/New_York:20251013T190000
DTSTAMP:20260422T073624
CREATED:20250616T141710Z
LAST-MODIFIED:20250825T095249Z
UID:10016167-1760378400-1760382000@www.baltimorecarmel.org
SUMMARY:Online Christian Meditation Group
DESCRIPTION:Join Zoom Meeting\nhttps://us02web.zoom.us/j/348123610?pwd=TTExR2J0NDN2b0hGLytMVVVKWnV0Zz09 \nMeeting ID: 348 123 610\nPasscode: peace \n 
URL:https://www.baltimorecarmel.org/event/online-christian-meditation-group-2/2025-10-13/
CATEGORIES:Main Calendar
END:VEVENT
BEGIN:VEVENT
DTSTART;TZID=America/New_York:20251014T073000
DTEND;TZID=America/New_York:20251014T080000
DTSTAMP:20260422T073624
CREATED:20250926T100915Z
LAST-MODIFIED:20250926T100915Z
UID:10016435-1760427000-1760428800@www.baltimorecarmel.org
SUMMARY:Lauds
DESCRIPTION:
URL:https://www.baltimorecarmel.org/event/lauds-185/2025-10-14/
CATEGORIES:Main Calendar
END:VEVENT
BEGIN:VEVENT
DTSTART;TZID=America/New_York:20251014T080000
DTEND;TZID=America/New_York:20251014T090000
DTSTAMP:20260422T073624
CREATED:20250926T100536Z
LAST-MODIFIED:20250926T100536Z
UID:10016430-1760428800-1760432400@www.baltimorecarmel.org
SUMMARY:Mass (Rev. Joe Muth)
DESCRIPTION:
URL:https://www.baltimorecarmel.org/event/mass-rev-joe-muth-58/
CATEGORIES:Main Calendar
END:VEVENT
BEGIN:VEVENT
DTSTART;TZID=America/New_York:20251014T160000
DTEND;TZID=America/New_York:20251014T163000
DTSTAMP:20260422T073624
CREATED:20250926T100956Z
LAST-MODIFIED:20250926T100956Z
UID:10016437-1760457600-1760459400@www.baltimorecarmel.org
SUMMARY:Vespers
DESCRIPTION:
URL:https://www.baltimorecarmel.org/event/vespers-128/2025-10-14/
CATEGORIES:Main Calendar
END:VEVENT
BEGIN:VEVENT
DTSTART;VALUE=DATE:20251015
DTEND;VALUE=DATE:20251016
DTSTAMP:20260422T073624
CREATED:20250926T100500Z
LAST-MODIFIED:20250926T100501Z
UID:10016429-1760486400-1760572799@www.baltimorecarmel.org
SUMMARY:Teresa of Avila
DESCRIPTION:
URL:https://www.baltimorecarmel.org/event/teresa-of-avila/
CATEGORIES:Main Calendar
END:VEVENT
BEGIN:VEVENT
DTSTART;TZID=America/New_York:20251015T083000
DTEND;TZID=America/New_York:20251015T090000
DTSTAMP:20260422T073624
CREATED:20250926T100642Z
LAST-MODIFIED:20250926T100642Z
UID:10016432-1760517000-1760518800@www.baltimorecarmel.org
SUMMARY:Lauds
DESCRIPTION:
URL:https://www.baltimorecarmel.org/event/lauds-184/
CATEGORIES:Main Calendar
END:VEVENT
BEGIN:VEVENT
DTSTART;TZID=America/New_York:20251015T090000
DTEND;TZID=America/New_York:20251015T100000
DTSTAMP:20260422T073624
CREATED:20250926T100606Z
LAST-MODIFIED:20250926T100606Z
UID:10016431-1760518800-1760522400@www.baltimorecarmel.org
SUMMARY:Mass (Bob Leavitt\, PSS)
DESCRIPTION:
URL:https://www.baltimorecarmel.org/event/mass-bob-leavitt-pss-22/
CATEGORIES:Main Calendar
END:VEVENT
BEGIN:VEVENT
DTSTART;TZID=America/New_York:20251015T170000
DTEND;TZID=America/New_York:20251015T173000
DTSTAMP:20260422T073624
CREATED:20251012T100149Z
LAST-MODIFIED:20251012T100149Z
UID:10016449-1760547600-1760549400@www.baltimorecarmel.org
SUMMARY:Vespers
DESCRIPTION:
URL:https://www.baltimorecarmel.org/event/vespers-27/
CATEGORIES:Main Calendar
END:VEVENT
BEGIN:VEVENT
DTSTART;TZID=America/New_York:20251016T080000
DTEND;TZID=America/New_York:20251016T090000
DTSTAMP:20260422T073624
CREATED:20251005T110112Z
LAST-MODIFIED:20251005T110112Z
UID:10016446-1760601600-1760605200@www.baltimorecarmel.org
SUMMARY:Mass (Charles Borges\, SJ)
DESCRIPTION:
URL:https://www.baltimorecarmel.org/event/mass-charles-borges-sj-51/
CATEGORIES:Main Calendar
END:VEVENT
BEGIN:VEVENT
DTSTART;TZID=America/New_York:20251017T080000
DTEND;TZID=America/New_York:20251017T090000
DTSTAMP:20260422T073624
CREATED:20251005T110148Z
LAST-MODIFIED:20251005T110148Z
UID:10016447-1760688000-1760691600@www.baltimorecarmel.org
SUMMARY:Mass (Gene Geinzer\, SJ)
DESCRIPTION:
URL:https://www.baltimorecarmel.org/event/mass-gene-geinzer-sj-8/
CATEGORIES:Main Calendar
END:VEVENT
BEGIN:VEVENT
DTSTART;TZID=America/New_York:20251018T080000
DTEND;TZID=America/New_York:20251018T090000
DTSTAMP:20260422T073624
CREATED:20251005T110215Z
LAST-MODIFIED:20251005T110215Z
UID:10016448-1760774400-1760778000@www.baltimorecarmel.org
SUMMARY:Mass (Rich McGowan\, SJ)
DESCRIPTION:
URL:https://www.baltimorecarmel.org/event/mass-rich-mcgowan-sj/
CATEGORIES:Main Calendar
END:VEVENT
BEGIN:VEVENT
DTSTART;TZID=America/New_York:20251019T080000
DTEND;TZID=America/New_York:20251019T083000
DTSTAMP:20260422T073624
CREATED:20250926T095513Z
LAST-MODIFIED:20250926T095513Z
UID:10016413-1760860800-1760862600@www.baltimorecarmel.org
SUMMARY:Lauds
DESCRIPTION:
URL:https://www.baltimorecarmel.org/event/lauds-162/2025-10-19/
CATEGORIES:Main Calendar
END:VEVENT
BEGIN:VEVENT
DTSTART;TZID=America/New_York:20251019T090000
DTEND;TZID=America/New_York:20251019T100000
DTSTAMP:20260422T073624
CREATED:20250922T100628Z
LAST-MODIFIED:20250922T100628Z
UID:10016393-1760864400-1760868000@www.baltimorecarmel.org
SUMMARY:Mass In-person or Online (Rev. Joe Muth)
DESCRIPTION:
URL:https://www.baltimorecarmel.org/event/mass-in-person-or-online-rev-joe-muth-3/
CATEGORIES:Main Calendar
END:VEVENT
BEGIN:VEVENT
DTSTART;TZID=America/New_York:20251020T073000
DTEND;TZID=America/New_York:20251020T080000
DTSTAMP:20260422T073624
CREATED:20251017T094828Z
LAST-MODIFIED:20251017T094828Z
UID:10016452-1760945400-1760947200@www.baltimorecarmel.org
SUMMARY:Lauds
DESCRIPTION:
URL:https://www.baltimorecarmel.org/event/lauds-25/
CATEGORIES:Main Calendar
END:VEVENT
BEGIN:VEVENT
DTSTART;TZID=America/New_York:20251020T080000
DTEND;TZID=America/New_York:20251020T090000
DTSTAMP:20260422T073624
CREATED:20251016T093940Z
LAST-MODIFIED:20251016T093940Z
UID:10016450-1760947200-1760950800@www.baltimorecarmel.org
SUMMARY:Mass (Bob Leavitt\, PSS)
DESCRIPTION:
URL:https://www.baltimorecarmel.org/event/mass-bob-leavitt-pss-23/
CATEGORIES:Main Calendar
END:VEVENT
BEGIN:VEVENT
DTSTART;TZID=America/New_York:20251020T180000
DTEND;TZID=America/New_York:20251020T190000
DTSTAMP:20260422T073624
CREATED:20250616T141710Z
LAST-MODIFIED:20250825T095249Z
UID:10016168-1760983200-1760986800@www.baltimorecarmel.org
SUMMARY:Online Christian Meditation Group
DESCRIPTION:Join Zoom Meeting\nhttps://us02web.zoom.us/j/348123610?pwd=TTExR2J0NDN2b0hGLytMVVVKWnV0Zz09 \nMeeting ID: 348 123 610\nPasscode: peace \n 
URL:https://www.baltimorecarmel.org/event/online-christian-meditation-group-2/2025-10-20/
CATEGORIES:Main Calendar
END:VEVENT
BEGIN:VEVENT
DTSTART;TZID=America/New_York:20251021T073000
DTEND;TZID=America/New_York:20251021T080000
DTSTAMP:20260422T073624
CREATED:20251017T094854Z
LAST-MODIFIED:20251017T094854Z
UID:10016453-1761031800-1761033600@www.baltimorecarmel.org
SUMMARY:Lauds
DESCRIPTION:
URL:https://www.baltimorecarmel.org/event/lauds-32/
CATEGORIES:Main Calendar
END:VEVENT
BEGIN:VEVENT
DTSTART;TZID=America/New_York:20251021T080000
DTEND;TZID=America/New_York:20251021T090000
DTSTAMP:20260422T073624
CREATED:20251016T094009Z
LAST-MODIFIED:20251016T094009Z
UID:10016451-1761033600-1761037200@www.baltimorecarmel.org
SUMMARY:Mass (Re. Joe Muth)
DESCRIPTION:
URL:https://www.baltimorecarmel.org/event/mass-re-joe-muth/
CATEGORIES:Main Calendar
END:VEVENT
BEGIN:VEVENT
DTSTART;TZID=America/New_York:20251021T160000
DTEND;TZID=America/New_York:20251021T163000
DTSTAMP:20260422T073624
CREATED:20251020T215409Z
LAST-MODIFIED:20251020T215409Z
UID:10016481-1761062400-1761064200@www.baltimorecarmel.org
SUMMARY:Vespers
DESCRIPTION:
URL:https://www.baltimorecarmel.org/event/vespers-29/
CATEGORIES:Main Calendar
END:VEVENT
BEGIN:VEVENT
DTSTART;TZID=America/New_York:20251022T170000
DTEND;TZID=America/New_York:20251022T180000
DTSTAMP:20260422T073624
CREATED:20251017T094951Z
LAST-MODIFIED:20251017T094951Z
UID:10016454-1761152400-1761156000@www.baltimorecarmel.org
SUMMARY:Mass (Charles Borges\, SJ)
DESCRIPTION:
URL:https://www.baltimorecarmel.org/event/mass-charles-borges-sj-2/
CATEGORIES:Main Calendar
END:VEVENT
BEGIN:VEVENT
DTSTART;TZID=America/New_York:20251023T073000
DTEND;TZID=America/New_York:20251023T080000
DTSTAMP:20260422T073624
CREATED:20251017T095212Z
LAST-MODIFIED:20251017T095212Z
UID:10016458-1761204600-1761206400@www.baltimorecarmel.org
SUMMARY:Lauds
DESCRIPTION:
URL:https://www.baltimorecarmel.org/event/lauds-34/2025-10-23/
CATEGORIES:Main Calendar
END:VEVENT
BEGIN:VEVENT
DTSTART;TZID=America/New_York:20251023T080000
DTEND;TZID=America/New_York:20251023T090000
DTSTAMP:20260422T073624
CREATED:20251017T095023Z
LAST-MODIFIED:20251017T095023Z
UID:10016455-1761206400-1761210000@www.baltimorecarmel.org
SUMMARY:Mass (Charles Borges\, SJ)
DESCRIPTION:
URL:https://www.baltimorecarmel.org/event/mass-charles-borges-sj-3/
CATEGORIES:Main Calendar
END:VEVENT
BEGIN:VEVENT
DTSTART;TZID=America/New_York:20251024T073000
DTEND;TZID=America/New_York:20251024T080000
DTSTAMP:20260422T073624
CREATED:20251017T095212Z
LAST-MODIFIED:20251017T095212Z
UID:10016459-1761291000-1761292800@www.baltimorecarmel.org
SUMMARY:Lauds
DESCRIPTION:
URL:https://www.baltimorecarmel.org/event/lauds-34/2025-10-24/
CATEGORIES:Main Calendar
END:VEVENT
BEGIN:VEVENT
DTSTART;TZID=America/New_York:20251024T080000
DTEND;TZID=America/New_York:20251024T090000
DTSTAMP:20260422T073624
CREATED:20251017T095055Z
LAST-MODIFIED:20251017T095055Z
UID:10016456-1761292800-1761296400@www.baltimorecarmel.org
SUMMARY:Mass (Gene Geinzer\, SJ)
DESCRIPTION:
URL:https://www.baltimorecarmel.org/event/mass-gene-geinzer-sj-9/
CATEGORIES:Main Calendar
END:VEVENT
BEGIN:VEVENT
DTSTART;TZID=America/New_York:20251024T160000
DTEND;TZID=America/New_York:20251024T163000
DTSTAMP:20260422T073624
CREATED:20251020T215434Z
LAST-MODIFIED:20251020T215434Z
UID:10016482-1761321600-1761323400@www.baltimorecarmel.org
SUMMARY:Vespers
DESCRIPTION:
URL:https://www.baltimorecarmel.org/event/vespers-31/
CATEGORIES:Main Calendar
END:VEVENT
BEGIN:VEVENT
DTSTART;TZID=America/New_York:20251025T073000
DTEND;TZID=America/New_York:20251025T080000
DTSTAMP:20260422T073624
CREATED:20251017T095212Z
LAST-MODIFIED:20251017T095212Z
UID:10016460-1761377400-1761379200@www.baltimorecarmel.org
SUMMARY:Lauds
DESCRIPTION:
URL:https://www.baltimorecarmel.org/event/lauds-34/2025-10-25/
CATEGORIES:Main Calendar
END:VEVENT
BEGIN:VEVENT
DTSTART;TZID=America/New_York:20251025T080000
DTEND;TZID=America/New_York:20251025T090000
DTSTAMP:20260422T073624
CREATED:20251017T095129Z
LAST-MODIFIED:20251017T095129Z
UID:10016457-1761379200-1761382800@www.baltimorecarmel.org
SUMMARY:Mass (Gregory Chisholm\, SJ)
DESCRIPTION:
URL:https://www.baltimorecarmel.org/event/mass-gregory-chisholm-sj-7/
CATEGORIES:Main Calendar
END:VEVENT
BEGIN:VEVENT
DTSTART;TZID=America/New_York:20251025T160000
DTEND;TZID=America/New_York:20251025T163000
DTSTAMP:20260422T073624
CREATED:20251020T215455Z
LAST-MODIFIED:20251020T215455Z
UID:10016483-1761408000-1761409800@www.baltimorecarmel.org
SUMMARY:Vespers
DESCRIPTION:
URL:https://www.baltimorecarmel.org/event/vespers-127/
CATEGORIES:Main Calendar
END:VEVENT
END:VCALENDAR