BEGIN:VCALENDAR
VERSION:2.0
PRODID:-//The Carmelite Nuns of Baltimore - ECPv6.15.20//NONSGML v1.0//EN
CALSCALE:GREGORIAN
METHOD:PUBLISH
X-WR-CALNAME:The Carmelite Nuns of Baltimore
X-ORIGINAL-URL:https://www.baltimorecarmel.org
X-WR-CALDESC:Events for The Carmelite Nuns of Baltimore
REFRESH-INTERVAL;VALUE=DURATION:PT1H
X-Robots-Tag:noindex
X-PUBLISHED-TTL:PT1H
BEGIN:VTIMEZONE
TZID:America/New_York
BEGIN:DAYLIGHT
TZOFFSETFROM:-0500
TZOFFSETTO:-0400
TZNAME:EDT
DTSTART:20240310T070000
END:DAYLIGHT
BEGIN:STANDARD
TZOFFSETFROM:-0400
TZOFFSETTO:-0500
TZNAME:EST
DTSTART:20241103T060000
END:STANDARD
BEGIN:DAYLIGHT
TZOFFSETFROM:-0500
TZOFFSETTO:-0400
TZNAME:EDT
DTSTART:20250309T070000
END:DAYLIGHT
BEGIN:STANDARD
TZOFFSETFROM:-0400
TZOFFSETTO:-0500
TZNAME:EST
DTSTART:20251102T060000
END:STANDARD
BEGIN:DAYLIGHT
TZOFFSETFROM:-0500
TZOFFSETTO:-0400
TZNAME:EDT
DTSTART:20260308T070000
END:DAYLIGHT
BEGIN:STANDARD
TZOFFSETFROM:-0400
TZOFFSETTO:-0500
TZNAME:EST
DTSTART:20261101T060000
END:STANDARD
END:VTIMEZONE
BEGIN:VEVENT
DTSTART;TZID=America/New_York:20250924T170000
DTEND;TZID=America/New_York:20250924T180000
DTSTAMP:20260424T113907
CREATED:20250912T194317Z
LAST-MODIFIED:20250912T194317Z
UID:10016376-1758733200-1758736800@www.baltimorecarmel.org
SUMMARY:Mass (Rev.  Ray Chase)
DESCRIPTION:
URL:https://www.baltimorecarmel.org/event/mass-rev-ray-chase-3/
CATEGORIES:Main Calendar
END:VEVENT
BEGIN:VEVENT
DTSTART;TZID=America/New_York:20250923T080000
DTEND;TZID=America/New_York:20250923T090000
DTSTAMP:20260424T113907
CREATED:20250912T194046Z
LAST-MODIFIED:20250912T194046Z
UID:10016372-1758614400-1758618000@www.baltimorecarmel.org
SUMMARY:Mass (Rev Joe Muth)
DESCRIPTION:
URL:https://www.baltimorecarmel.org/event/mass-rev-joe-muth-55/
CATEGORIES:Main Calendar
END:VEVENT
BEGIN:VEVENT
DTSTART;TZID=America/New_York:20250923T073000
DTEND;TZID=America/New_York:20250923T080000
DTSTAMP:20260424T113907
CREATED:20250912T194217Z
LAST-MODIFIED:20250912T194217Z
UID:10016375-1758612600-1758614400@www.baltimorecarmel.org
SUMMARY:Lauds
DESCRIPTION:
URL:https://www.baltimorecarmel.org/event/lauds-21/
CATEGORIES:Main Calendar
END:VEVENT
BEGIN:VEVENT
DTSTART;TZID=America/New_York:20250922T180000
DTEND;TZID=America/New_York:20250922T190000
DTSTAMP:20260424T113907
CREATED:20250616T141710Z
LAST-MODIFIED:20250825T095249Z
UID:10016164-1758564000-1758567600@www.baltimorecarmel.org
SUMMARY:Online Christian Meditation Group
DESCRIPTION:Join Zoom Meeting\nhttps://us02web.zoom.us/j/348123610?pwd=TTExR2J0NDN2b0hGLytMVVVKWnV0Zz09 \nMeeting ID: 348 123 610\nPasscode: peace \n 
URL:https://www.baltimorecarmel.org/event/online-christian-meditation-group-2/2025-09-22/
CATEGORIES:Main Calendar
END:VEVENT
BEGIN:VEVENT
DTSTART;TZID=America/New_York:20250922T160000
DTEND;TZID=America/New_York:20250922T163000
DTSTAMP:20260424T113907
CREATED:20250917T105156Z
LAST-MODIFIED:20250917T105156Z
UID:10016384-1758556800-1758558600@www.baltimorecarmel.org
SUMMARY:Vespers
DESCRIPTION:
URL:https://www.baltimorecarmel.org/event/vespers-21/
CATEGORIES:Main Calendar
END:VEVENT
BEGIN:VEVENT
DTSTART;TZID=America/New_York:20250922T080000
DTEND;TZID=America/New_York:20250922T090000
DTSTAMP:20260424T113907
CREATED:20250912T194131Z
LAST-MODIFIED:20250912T194131Z
UID:10016373-1758528000-1758531600@www.baltimorecarmel.org
SUMMARY:Mass (Bob Leavitt\, PSS)
DESCRIPTION:
URL:https://www.baltimorecarmel.org/event/mass-bob-leavitt-pss-18/
CATEGORIES:Main Calendar
END:VEVENT
BEGIN:VEVENT
DTSTART;TZID=America/New_York:20250922T073000
DTEND;TZID=America/New_York:20250922T080000
DTSTAMP:20260424T113907
CREATED:20250917T105958Z
LAST-MODIFIED:20250917T105958Z
UID:10016389-1758526200-1758528000@www.baltimorecarmel.org
SUMMARY:Lauds
DESCRIPTION:
URL:https://www.baltimorecarmel.org/event/lauds-20/
CATEGORIES:Main Calendar
END:VEVENT
BEGIN:VEVENT
DTSTART;TZID=America/New_York:20250921T170000
DTEND;TZID=America/New_York:20250921T173000
DTSTAMP:20260424T113907
CREATED:20250917T105101Z
LAST-MODIFIED:20250917T105101Z
UID:10016383-1758474000-1758475800@www.baltimorecarmel.org
SUMMARY:Vespers
DESCRIPTION:
URL:https://www.baltimorecarmel.org/event/vespers-20/
CATEGORIES:Main Calendar
END:VEVENT
BEGIN:VEVENT
DTSTART;TZID=America/New_York:20250921T090000
DTEND;TZID=America/New_York:20250921T100000
DTSTAMP:20260424T113907
CREATED:20250808T144332Z
LAST-MODIFIED:20250917T105824Z
UID:10016306-1758445200-1758448800@www.baltimorecarmel.org
SUMMARY:Mass Online or In-person (Rev. Joe Muth)
DESCRIPTION:
URL:https://www.baltimorecarmel.org/event/mass-online-or-in-person-rev-joe-muth-7/
CATEGORIES:Main Calendar
END:VEVENT
BEGIN:VEVENT
DTSTART;TZID=America/New_York:20250921T080000
DTEND;TZID=America/New_York:20250921T083000
DTSTAMP:20260424T113907
CREATED:20250917T105718Z
LAST-MODIFIED:20250917T105718Z
UID:10016388-1758441600-1758443400@www.baltimorecarmel.org
SUMMARY:Lauds
DESCRIPTION:
URL:https://www.baltimorecarmel.org/event/lauds-16/
CATEGORIES:Main Calendar
END:VEVENT
BEGIN:VEVENT
DTSTART;TZID=America/New_York:20250920T160000
DTEND;TZID=America/New_York:20250920T163000
DTSTAMP:20260424T113907
CREATED:20250909T103334Z
LAST-MODIFIED:20250909T103334Z
UID:10016370-1758384000-1758385800@www.baltimorecarmel.org
SUMMARY:Vespers
DESCRIPTION:
URL:https://www.baltimorecarmel.org/event/vespers-19/
CATEGORIES:Main Calendar
END:VEVENT
BEGIN:VEVENT
DTSTART;TZID=America/New_York:20250920T080000
DTEND;TZID=America/New_York:20250920T090000
DTSTAMP:20260424T113907
CREATED:20250909T103116Z
LAST-MODIFIED:20250909T103116Z
UID:10016366-1758355200-1758358800@www.baltimorecarmel.org
SUMMARY:Mass (Rich Mc Gowan\, SJ)
DESCRIPTION:
URL:https://www.baltimorecarmel.org/event/mass-rich-mc-gowan-sj/
CATEGORIES:Main Calendar
END:VEVENT
BEGIN:VEVENT
DTSTART;TZID=America/New_York:20250920T073000
DTEND;TZID=America/New_York:20250920T080000
DTSTAMP:20260424T113907
CREATED:20250909T103306Z
LAST-MODIFIED:20250909T103306Z
UID:10016369-1758353400-1758355200@www.baltimorecarmel.org
SUMMARY:Lauds
DESCRIPTION:
URL:https://www.baltimorecarmel.org/event/lauds-15/
CATEGORIES:Main Calendar
END:VEVENT
BEGIN:VEVENT
DTSTART;TZID=America/New_York:20250919T080000
DTEND;TZID=America/New_York:20250919T090000
DTSTAMP:20260424T113907
CREATED:20250909T103050Z
LAST-MODIFIED:20250909T103050Z
UID:10016365-1758268800-1758272400@www.baltimorecarmel.org
SUMMARY:Mass (Gene Geinzer\, SJ)
DESCRIPTION:
URL:https://www.baltimorecarmel.org/event/mass-gene-geinzer-sj-4/
CATEGORIES:Main Calendar
END:VEVENT
BEGIN:VEVENT
DTSTART;TZID=America/New_York:20250918T080000
DTEND;TZID=America/New_York:20250918T090000
DTSTAMP:20260424T113907
CREATED:20250909T102957Z
LAST-MODIFIED:20250909T103014Z
UID:10016364-1758182400-1758186000@www.baltimorecarmel.org
SUMMARY:Mass (Charles Borges\, SJ)
DESCRIPTION:
URL:https://www.baltimorecarmel.org/event/charles-borges-sj/
CATEGORIES:Main Calendar
END:VEVENT
BEGIN:VEVENT
DTSTART;TZID=America/New_York:20250917T080000
DTEND;TZID=America/New_York:20250917T090000
DTSTAMP:20260424T113907
CREATED:20250912T193958Z
LAST-MODIFIED:20250912T193958Z
UID:10016371-1758096000-1758099600@www.baltimorecarmel.org
SUMMARY:Mass (Rev. Joe Muth)
DESCRIPTION:
URL:https://www.baltimorecarmel.org/event/mass-rev-joe-muth-54/
CATEGORIES:Main Calendar
END:VEVENT
BEGIN:VEVENT
DTSTART;TZID=America/New_York:20250917T073000
DTEND;TZID=America/New_York:20250917T080000
DTSTAMP:20260424T113907
CREATED:20250912T194425Z
LAST-MODIFIED:20250912T194425Z
UID:10016377-1758094200-1758096000@www.baltimorecarmel.org
SUMMARY:Lauds
DESCRIPTION:
URL:https://www.baltimorecarmel.org/event/lauds-22/
CATEGORIES:Main Calendar
END:VEVENT
BEGIN:VEVENT
DTSTART;TZID=America/New_York:20250915T180000
DTEND;TZID=America/New_York:20250915T190000
DTSTAMP:20260424T113907
CREATED:20250616T141710Z
LAST-MODIFIED:20250825T095249Z
UID:10016163-1757959200-1757962800@www.baltimorecarmel.org
SUMMARY:Online Christian Meditation Group
DESCRIPTION:Join Zoom Meeting\nhttps://us02web.zoom.us/j/348123610?pwd=TTExR2J0NDN2b0hGLytMVVVKWnV0Zz09 \nMeeting ID: 348 123 610\nPasscode: peace \n 
URL:https://www.baltimorecarmel.org/event/online-christian-meditation-group-2/2025-09-15/
CATEGORIES:Main Calendar
END:VEVENT
BEGIN:VEVENT
DTSTART;TZID=America/New_York:20250915T160000
DTEND;TZID=America/New_York:20250915T163000
DTSTAMP:20260424T113907
CREATED:20250909T103226Z
LAST-MODIFIED:20250909T103226Z
UID:10016368-1757952000-1757953800@www.baltimorecarmel.org
SUMMARY:Vespers
DESCRIPTION:
URL:https://www.baltimorecarmel.org/event/vespers-18/
CATEGORIES:Main Calendar
END:VEVENT
BEGIN:VEVENT
DTSTART;TZID=America/New_York:20250915T080000
DTEND;TZID=America/New_York:20250915T090000
DTSTAMP:20260424T113907
CREATED:20250909T102800Z
LAST-MODIFIED:20250909T102800Z
UID:10016363-1757923200-1757926800@www.baltimorecarmel.org
SUMMARY:Mass (Brian McDermott\, SJ)
DESCRIPTION:
URL:https://www.baltimorecarmel.org/event/mass-brian-mcdermott-sj-7/
CATEGORIES:Main Calendar
END:VEVENT
BEGIN:VEVENT
DTSTART;TZID=America/New_York:20250915T073000
DTEND;TZID=America/New_York:20250915T080000
DTSTAMP:20260424T113907
CREATED:20250909T103158Z
LAST-MODIFIED:20250909T103158Z
UID:10016367-1757921400-1757923200@www.baltimorecarmel.org
SUMMARY:Lauds
DESCRIPTION:
URL:https://www.baltimorecarmel.org/event/lauds-13/
CATEGORIES:Main Calendar
END:VEVENT
BEGIN:VEVENT
DTSTART;TZID=America/New_York:20250914T170000
DTEND;TZID=America/New_York:20250914T173000
DTSTAMP:20260424T113907
CREATED:20250825T100032Z
LAST-MODIFIED:20250825T100032Z
UID:10016339-1757869200-1757871000@www.baltimorecarmel.org
SUMMARY:Vespers
DESCRIPTION:
URL:https://www.baltimorecarmel.org/event/vespers-10/
CATEGORIES:Main Calendar
END:VEVENT
BEGIN:VEVENT
DTSTART;TZID=America/New_York:20250914T090000
DTEND;TZID=America/New_York:20250914T100000
DTSTAMP:20260424T113907
CREATED:20250808T144250Z
LAST-MODIFIED:20250808T144250Z
UID:10016305-1757840400-1757844000@www.baltimorecarmel.org
SUMMARY:Mass Online or In-person (Brian McDermott\, SJ)
DESCRIPTION:
URL:https://www.baltimorecarmel.org/event/mass-online-or-in-person-brian-mcdermott-sj-6/
CATEGORIES:Main Calendar
END:VEVENT
BEGIN:VEVENT
DTSTART;TZID=America/New_York:20250914T080000
DTEND;TZID=America/New_York:20250914T083000
DTSTAMP:20260424T113907
CREATED:20250825T100010Z
LAST-MODIFIED:20250825T100010Z
UID:10016338-1757836800-1757838600@www.baltimorecarmel.org
SUMMARY:Lauds
DESCRIPTION:
URL:https://www.baltimorecarmel.org/event/lauds-156/
CATEGORIES:Main Calendar
END:VEVENT
BEGIN:VEVENT
DTSTART;VALUE=DATE:20250914
DTEND;VALUE=DATE:20250915
DTSTAMP:20260424T113907
CREATED:20250808T144111Z
LAST-MODIFIED:20250808T144111Z
UID:10016303-1757808000-1757894399@www.baltimorecarmel.org
SUMMARY:Exaltation of the Holy Cross
DESCRIPTION:
URL:https://www.baltimorecarmel.org/event/exaltation-of-the-holy-cross/
CATEGORIES:Main Calendar
END:VEVENT
BEGIN:VEVENT
DTSTART;TZID=America/New_York:20250913T160000
DTEND;TZID=America/New_York:20250913T163000
DTSTAMP:20260424T113907
CREATED:20250909T102701Z
LAST-MODIFIED:20250909T102701Z
UID:10016362-1757779200-1757781000@www.baltimorecarmel.org
SUMMARY:Vespers
DESCRIPTION:
URL:https://www.baltimorecarmel.org/event/vespers-17/
CATEGORIES:Main Calendar
END:VEVENT
BEGIN:VEVENT
DTSTART;TZID=America/New_York:20250913T080000
DTEND;TZID=America/New_York:20250913T090000
DTSTAMP:20260424T113907
CREATED:20250828T094425Z
LAST-MODIFIED:20250912T193906Z
UID:10016354-1757750400-1757754000@www.baltimorecarmel.org
SUMMARY:Mass (Charles Borges\, SJ)
DESCRIPTION:
URL:https://www.baltimorecarmel.org/event/mass-rich-mcgowan-sj-29/
CATEGORIES:Main Calendar
END:VEVENT
BEGIN:VEVENT
DTSTART;TZID=America/New_York:20250913T073000
DTEND;TZID=America/New_York:20250913T080000
DTSTAMP:20260424T113907
CREATED:20250828T094522Z
LAST-MODIFIED:20250828T094522Z
UID:10016356-1757748600-1757750400@www.baltimorecarmel.org
SUMMARY:Lauds
DESCRIPTION:
URL:https://www.baltimorecarmel.org/event/lauds-180/
CATEGORIES:Main Calendar
END:VEVENT
BEGIN:VEVENT
DTSTART;TZID=America/New_York:20250912T170000
DTEND;TZID=America/New_York:20250912T173000
DTSTAMP:20260424T113907
CREATED:20250909T102633Z
LAST-MODIFIED:20250909T102633Z
UID:10016361-1757696400-1757698200@www.baltimorecarmel.org
SUMMARY:Vespers
DESCRIPTION:
URL:https://www.baltimorecarmel.org/event/vespers-16/
CATEGORIES:Main Calendar
END:VEVENT
BEGIN:VEVENT
DTSTART;TZID=America/New_York:20250912T080000
DTEND;TZID=America/New_York:20250912T090000
DTSTAMP:20260424T113907
CREATED:20250828T094359Z
LAST-MODIFIED:20250828T094359Z
UID:10016353-1757664000-1757667600@www.baltimorecarmel.org
SUMMARY:Mass (Gene Geinzer\, SJ)
DESCRIPTION:
URL:https://www.baltimorecarmel.org/event/mass-gene-geinzer-sj-3/
CATEGORIES:Main Calendar
END:VEVENT
END:VCALENDAR