BEGIN:VCALENDAR
VERSION:2.0
PRODID:-//The Carmelite Nuns of Baltimore - ECPv6.15.20//NONSGML v1.0//EN
CALSCALE:GREGORIAN
METHOD:PUBLISH
X-ORIGINAL-URL:https://www.baltimorecarmel.org
X-WR-CALDESC:Events for The Carmelite Nuns of Baltimore
REFRESH-INTERVAL;VALUE=DURATION:PT1H
X-Robots-Tag:noindex
X-PUBLISHED-TTL:PT1H
BEGIN:VTIMEZONE
TZID:America/New_York
BEGIN:DAYLIGHT
TZOFFSETFROM:-0500
TZOFFSETTO:-0400
TZNAME:EDT
DTSTART:20240310T070000
END:DAYLIGHT
BEGIN:STANDARD
TZOFFSETFROM:-0400
TZOFFSETTO:-0500
TZNAME:EST
DTSTART:20241103T060000
END:STANDARD
BEGIN:DAYLIGHT
TZOFFSETFROM:-0500
TZOFFSETTO:-0400
TZNAME:EDT
DTSTART:20250309T070000
END:DAYLIGHT
BEGIN:STANDARD
TZOFFSETFROM:-0400
TZOFFSETTO:-0500
TZNAME:EST
DTSTART:20251102T060000
END:STANDARD
BEGIN:DAYLIGHT
TZOFFSETFROM:-0500
TZOFFSETTO:-0400
TZNAME:EDT
DTSTART:20260308T070000
END:DAYLIGHT
BEGIN:STANDARD
TZOFFSETFROM:-0400
TZOFFSETTO:-0500
TZNAME:EST
DTSTART:20261101T060000
END:STANDARD
END:VTIMEZONE
BEGIN:VEVENT
DTSTART;TZID=America/New_York:20251024T073000
DTEND;TZID=America/New_York:20251024T080000
DTSTAMP:20260424T114529
CREATED:20251017T095212Z
LAST-MODIFIED:20251017T095212Z
UID:10016459-1761291000-1761292800@www.baltimorecarmel.org
SUMMARY:Lauds
DESCRIPTION:
URL:https://www.baltimorecarmel.org/event/lauds-34/2025-10-24/
CATEGORIES:Main Calendar
END:VEVENT
BEGIN:VEVENT
DTSTART;TZID=America/New_York:20251024T080000
DTEND;TZID=America/New_York:20251024T090000
DTSTAMP:20260424T114529
CREATED:20251017T095055Z
LAST-MODIFIED:20251017T095055Z
UID:10016456-1761292800-1761296400@www.baltimorecarmel.org
SUMMARY:Mass (Gene Geinzer\, SJ)
DESCRIPTION:
URL:https://www.baltimorecarmel.org/event/mass-gene-geinzer-sj-9/
CATEGORIES:Main Calendar
END:VEVENT
BEGIN:VEVENT
DTSTART;TZID=America/New_York:20251024T160000
DTEND;TZID=America/New_York:20251024T163000
DTSTAMP:20260424T114529
CREATED:20251020T215434Z
LAST-MODIFIED:20251020T215434Z
UID:10016482-1761321600-1761323400@www.baltimorecarmel.org
SUMMARY:Vespers
DESCRIPTION:
URL:https://www.baltimorecarmel.org/event/vespers-31/
CATEGORIES:Main Calendar
END:VEVENT
BEGIN:VEVENT
DTSTART;TZID=America/New_York:20251025T073000
DTEND;TZID=America/New_York:20251025T080000
DTSTAMP:20260424T114529
CREATED:20251017T095212Z
LAST-MODIFIED:20251017T095212Z
UID:10016460-1761377400-1761379200@www.baltimorecarmel.org
SUMMARY:Lauds
DESCRIPTION:
URL:https://www.baltimorecarmel.org/event/lauds-34/2025-10-25/
CATEGORIES:Main Calendar
END:VEVENT
BEGIN:VEVENT
DTSTART;TZID=America/New_York:20251025T080000
DTEND;TZID=America/New_York:20251025T090000
DTSTAMP:20260424T114529
CREATED:20251017T095129Z
LAST-MODIFIED:20251017T095129Z
UID:10016457-1761379200-1761382800@www.baltimorecarmel.org
SUMMARY:Mass (Gregory Chisholm\, SJ)
DESCRIPTION:
URL:https://www.baltimorecarmel.org/event/mass-gregory-chisholm-sj-7/
CATEGORIES:Main Calendar
END:VEVENT
BEGIN:VEVENT
DTSTART;TZID=America/New_York:20251025T160000
DTEND;TZID=America/New_York:20251025T163000
DTSTAMP:20260424T114529
CREATED:20251020T215455Z
LAST-MODIFIED:20251020T215455Z
UID:10016483-1761408000-1761409800@www.baltimorecarmel.org
SUMMARY:Vespers
DESCRIPTION:
URL:https://www.baltimorecarmel.org/event/vespers-127/
CATEGORIES:Main Calendar
END:VEVENT
BEGIN:VEVENT
DTSTART;TZID=America/New_York:20251026T080000
DTEND;TZID=America/New_York:20251026T083000
DTSTAMP:20260424T114529
CREATED:20250926T095513Z
LAST-MODIFIED:20250926T095513Z
UID:10016414-1761465600-1761467400@www.baltimorecarmel.org
SUMMARY:Lauds
DESCRIPTION:
URL:https://www.baltimorecarmel.org/event/lauds-162/2025-10-26/
CATEGORIES:Main Calendar
END:VEVENT
BEGIN:VEVENT
DTSTART;TZID=America/New_York:20251026T090000
DTEND;TZID=America/New_York:20251026T100000
DTSTAMP:20260424T114529
CREATED:20250926T095608Z
LAST-MODIFIED:20250926T095608Z
UID:10016415-1761469200-1761472800@www.baltimorecarmel.org
SUMMARY:Mass In-person or Online (Gene Geinzer\, SJ)
DESCRIPTION:
URL:https://www.baltimorecarmel.org/event/mass-in-person-or-online-gene-geinzer-sj-2/
CATEGORIES:Main Calendar
END:VEVENT
BEGIN:VEVENT
DTSTART;TZID=America/New_York:20251026T170000
DTEND;TZID=America/New_York:20251026T173000
DTSTAMP:20260424T114529
CREATED:20251025T103656Z
LAST-MODIFIED:20251025T103656Z
UID:10016484-1761498000-1761499800@www.baltimorecarmel.org
SUMMARY:Vespers
DESCRIPTION:
URL:https://www.baltimorecarmel.org/event/vespers-30/
CATEGORIES:Main Calendar
END:VEVENT
BEGIN:VEVENT
DTSTART;TZID=America/New_York:20251027T073000
DTEND;TZID=America/New_York:20251027T080000
DTSTAMP:20260424T114529
CREATED:20251017T095521Z
LAST-MODIFIED:20251017T095521Z
UID:10016466-1761550200-1761552000@www.baltimorecarmel.org
SUMMARY:Lauds
DESCRIPTION:
URL:https://www.baltimorecarmel.org/event/lauds-35/
CATEGORIES:Main Calendar
END:VEVENT
BEGIN:VEVENT
DTSTART;TZID=America/New_York:20251027T080000
DTEND;TZID=America/New_York:20251027T090000
DTSTAMP:20260424T114529
CREATED:20251017T095239Z
LAST-MODIFIED:20251017T095239Z
UID:10016461-1761552000-1761555600@www.baltimorecarmel.org
SUMMARY:Mass (Bob Leavitt\, PSS)
DESCRIPTION:
URL:https://www.baltimorecarmel.org/event/mass-bob-leavitt-pss-24/
CATEGORIES:Main Calendar
END:VEVENT
BEGIN:VEVENT
DTSTART;TZID=America/New_York:20251027T160000
DTEND;TZID=America/New_York:20251027T163000
DTSTAMP:20260424T114529
CREATED:20251025T103732Z
LAST-MODIFIED:20251025T103732Z
UID:10016485-1761580800-1761582600@www.baltimorecarmel.org
SUMMARY:Vespers
DESCRIPTION:
URL:https://www.baltimorecarmel.org/event/vespers-34/2025-10-27/
CATEGORIES:Main Calendar
END:VEVENT
BEGIN:VEVENT
DTSTART;TZID=America/New_York:20251027T160000
DTEND;TZID=America/New_York:20251027T163000
DTSTAMP:20260424T114529
CREATED:20251027T090528Z
LAST-MODIFIED:20251027T090528Z
UID:10016494-1761580800-1761582600@www.baltimorecarmel.org
SUMMARY:Vespers
DESCRIPTION:
URL:https://www.baltimorecarmel.org/event/vespers-132/
CATEGORIES:Main Calendar
END:VEVENT
BEGIN:VEVENT
DTSTART;TZID=America/New_York:20251027T180000
DTEND;TZID=America/New_York:20251027T190000
DTSTAMP:20260424T114529
CREATED:20250616T141710Z
LAST-MODIFIED:20250825T095249Z
UID:10016169-1761588000-1761591600@www.baltimorecarmel.org
SUMMARY:Online Christian Meditation Group
DESCRIPTION:Join Zoom Meeting\nhttps://us02web.zoom.us/j/348123610?pwd=TTExR2J0NDN2b0hGLytMVVVKWnV0Zz09 \nMeeting ID: 348 123 610\nPasscode: peace \n 
URL:https://www.baltimorecarmel.org/event/online-christian-meditation-group-2/2025-10-27/
CATEGORIES:Main Calendar
END:VEVENT
BEGIN:VEVENT
DTSTART;TZID=America/New_York:20251028T073000
DTEND;TZID=America/New_York:20251028T080000
DTSTAMP:20260424T114529
CREATED:20251017T095544Z
LAST-MODIFIED:20251017T095544Z
UID:10016467-1761636600-1761638400@www.baltimorecarmel.org
SUMMARY:Lauds
DESCRIPTION:
URL:https://www.baltimorecarmel.org/event/lauds-37/
CATEGORIES:Main Calendar
END:VEVENT
BEGIN:VEVENT
DTSTART;TZID=America/New_York:20251028T080000
DTEND;TZID=America/New_York:20251028T090000
DTSTAMP:20260424T114529
CREATED:20251017T095311Z
LAST-MODIFIED:20251017T095311Z
UID:10016462-1761638400-1761642000@www.baltimorecarmel.org
SUMMARY:Mass (Rev. Joe Muth)
DESCRIPTION:
URL:https://www.baltimorecarmel.org/event/mass-rev-joe-muth-2/
CATEGORIES:Main Calendar
END:VEVENT
BEGIN:VEVENT
DTSTART;TZID=America/New_York:20251028T160000
DTEND;TZID=America/New_York:20251028T163000
DTSTAMP:20260424T114529
CREATED:20251025T103732Z
LAST-MODIFIED:20251025T103732Z
UID:10016486-1761667200-1761669000@www.baltimorecarmel.org
SUMMARY:Vespers
DESCRIPTION:
URL:https://www.baltimorecarmel.org/event/vespers-34/2025-10-28/
CATEGORIES:Main Calendar
END:VEVENT
BEGIN:VEVENT
DTSTART;TZID=America/New_York:20251029T170000
DTEND;TZID=America/New_York:20251029T180000
DTSTAMP:20260424T114529
CREATED:20251017T095350Z
LAST-MODIFIED:20251017T095350Z
UID:10016463-1761757200-1761760800@www.baltimorecarmel.org
SUMMARY:Mass (Rev. Ray Chase)
DESCRIPTION:
URL:https://www.baltimorecarmel.org/event/mass-rev-ray-chase-8/
CATEGORIES:Main Calendar
END:VEVENT
BEGIN:VEVENT
DTSTART;TZID=America/New_York:20251030T073000
DTEND;TZID=America/New_York:20251030T080000
DTSTAMP:20260424T114529
CREATED:20251017T095610Z
LAST-MODIFIED:20251017T095610Z
UID:10016468-1761809400-1761811200@www.baltimorecarmel.org
SUMMARY:Lauds
DESCRIPTION:
URL:https://www.baltimorecarmel.org/event/lauds-186/
CATEGORIES:Main Calendar
END:VEVENT
BEGIN:VEVENT
DTSTART;TZID=America/New_York:20251030T080000
DTEND;TZID=America/New_York:20251030T090000
DTSTAMP:20260424T114529
CREATED:20251017T095419Z
LAST-MODIFIED:20251017T095419Z
UID:10016464-1761811200-1761814800@www.baltimorecarmel.org
SUMMARY:Mass (Charles Borges\, SJ)
DESCRIPTION:
URL:https://www.baltimorecarmel.org/event/mass-charles-borges-sj-5/
CATEGORIES:Main Calendar
END:VEVENT
BEGIN:VEVENT
DTSTART;TZID=America/New_York:20251031T073000
DTEND;TZID=America/New_York:20251031T080000
DTSTAMP:20260424T114529
CREATED:20251017T095721Z
LAST-MODIFIED:20251017T095721Z
UID:10016469-1761895800-1761897600@www.baltimorecarmel.org
SUMMARY:Lauds
DESCRIPTION:
URL:https://www.baltimorecarmel.org/event/lauds-187/
CATEGORIES:Main Calendar
END:VEVENT
BEGIN:VEVENT
DTSTART;TZID=America/New_York:20251031T080000
DTEND;TZID=America/New_York:20251031T090000
DTSTAMP:20260424T114529
CREATED:20251017T095450Z
LAST-MODIFIED:20251017T095450Z
UID:10016465-1761897600-1761901200@www.baltimorecarmel.org
SUMMARY:Mass (Gene Geinzer\, SJ)
DESCRIPTION:
URL:https://www.baltimorecarmel.org/event/mass-gene-geinzer-sj-49/
CATEGORIES:Main Calendar
END:VEVENT
BEGIN:VEVENT
DTSTART;TZID=America/New_York:20251031T160000
DTEND;TZID=America/New_York:20251031T163000
DTSTAMP:20260424T114529
CREATED:20251025T103755Z
LAST-MODIFIED:20251025T103755Z
UID:10016487-1761926400-1761928200@www.baltimorecarmel.org
SUMMARY:Vespers
DESCRIPTION:
URL:https://www.baltimorecarmel.org/event/vespers-131/
CATEGORIES:Main Calendar
END:VEVENT
BEGIN:VEVENT
DTSTART;VALUE=DATE:20251101
DTEND;VALUE=DATE:20251102
DTSTAMP:20260424T114529
CREATED:20251027T090308Z
LAST-MODIFIED:20251027T090309Z
UID:10016490-1761955200-1762041599@www.baltimorecarmel.org
SUMMARY:All Saints Day
DESCRIPTION:
URL:https://www.baltimorecarmel.org/event/all-saints-day/
CATEGORIES:Main Calendar
END:VEVENT
BEGIN:VEVENT
DTSTART;TZID=America/New_York:20251101T083000
DTEND;TZID=America/New_York:20251101T090000
DTSTAMP:20260424T114529
CREATED:20251027T090422Z
LAST-MODIFIED:20251030T110509Z
UID:10016492-1761985800-1761987600@www.baltimorecarmel.org
SUMMARY:Lauds
DESCRIPTION:
URL:https://www.baltimorecarmel.org/event/lauds-36/
CATEGORIES:Main Calendar
END:VEVENT
BEGIN:VEVENT
DTSTART;TZID=America/New_York:20251101T090000
DTEND;TZID=America/New_York:20251101T100000
DTSTAMP:20260424T114529
CREATED:20251027T090400Z
LAST-MODIFIED:20251030T110253Z
UID:10016491-1761987600-1761991200@www.baltimorecarmel.org
SUMMARY:Mass (Charles Borges\, SJ)
DESCRIPTION:
URL:https://www.baltimorecarmel.org/event/mass-charles-borges-sj-4/
CATEGORIES:Main Calendar
END:VEVENT
BEGIN:VEVENT
DTSTART;TZID=America/New_York:20251101T160000
DTEND;TZID=America/New_York:20251101T163000
DTSTAMP:20260424T114529
CREATED:20251027T090446Z
LAST-MODIFIED:20251027T090446Z
UID:10016493-1762012800-1762014600@www.baltimorecarmel.org
SUMMARY:Vespers
DESCRIPTION:
URL:https://www.baltimorecarmel.org/event/vespers-33/
CATEGORIES:Main Calendar
END:VEVENT
BEGIN:VEVENT
DTSTART;TZID=America/New_York:20251102T080000
DTEND;TZID=America/New_York:20251102T083000
DTSTAMP:20260424T114529
CREATED:20251017T100226Z
LAST-MODIFIED:20251017T100226Z
UID:10016475-1762070400-1762072200@www.baltimorecarmel.org
SUMMARY:Lauds
DESCRIPTION:
URL:https://www.baltimorecarmel.org/event/lauds-188/
CATEGORIES:Main Calendar
END:VEVENT
BEGIN:VEVENT
DTSTART;TZID=America/New_York:20251102T090000
DTEND;TZID=America/New_York:20251102T100000
DTSTAMP:20260424T114529
CREATED:20251017T095907Z
LAST-MODIFIED:20251017T095907Z
UID:10016470-1762074000-1762077600@www.baltimorecarmel.org
SUMMARY:Mass In-person or Online (Bob Leavitt\, PSS)
DESCRIPTION:
URL:https://www.baltimorecarmel.org/event/mass-in-person-or-online-bob-leavitt-pss-2/
CATEGORIES:Main Calendar
END:VEVENT
BEGIN:VEVENT
DTSTART;TZID=America/New_York:20251102T170000
DTEND;TZID=America/New_York:20251102T173000
DTSTAMP:20260424T114529
CREATED:20251030T101450Z
LAST-MODIFIED:20251030T101450Z
UID:10016512-1762102800-1762104600@www.baltimorecarmel.org
SUMMARY:Vespers
DESCRIPTION:
URL:https://www.baltimorecarmel.org/event/vespers-36/2025-11-02/
CATEGORIES:Main Calendar
END:VEVENT
END:VCALENDAR